BEGIN:VCALENDAR
VERSION:2.0
PRODID:-//InsurtechNZ - ECPv6.10.2//NONSGML v1.0//EN
CALSCALE:GREGORIAN
METHOD:PUBLISH
X-WR-CALNAME:InsurtechNZ
X-ORIGINAL-URL:https://insurtechnz.org.nz
X-WR-CALDESC:Events for InsurtechNZ
REFRESH-INTERVAL;VALUE=DURATION:PT1H
X-Robots-Tag:noindex
X-PUBLISHED-TTL:PT1H
BEGIN:VTIMEZONE
TZID:Pacific/Auckland
BEGIN:STANDARD
TZOFFSETFROM:+1300
TZOFFSETTO:+1200
TZNAME:NZST
DTSTART:20210403T140000
END:STANDARD
BEGIN:DAYLIGHT
TZOFFSETFROM:+1200
TZOFFSETTO:+1300
TZNAME:NZDT
DTSTART:20210925T140000
END:DAYLIGHT
END:VTIMEZONE
BEGIN:VEVENT
DTSTART;TZID=Pacific/Auckland:20210929T170000
DTEND;TZID=Pacific/Auckland:20210929T173000
DTSTAMP:20260420T182057
CREATED:20210914T235336Z
LAST-MODIFIED:20210923T001609Z
UID:348-1632934800-1632936600@insurtechnz.org.nz
SUMMARY:InsurTechNZ September Connect Event
DESCRIPTION:Data lies at the heart of efforts to improve the customer experience for insurance products\, streamlining the process of buying cover and better aligning premiums with risk. \nJoin September’s Member Connect event to hear from three digital businesses who are tapping into data to make better decisions and help consumers find the right insurance products to meet their needs. \nA link will be sent to you closer to the time of the webinar
URL:https://insurtechnz.org.nz/event/insurtechnz-september-connect-event/
CATEGORIES:InsurTechNZ
ATTACH;FMTTYPE=image/jpeg:https://insurtechnz.org.nz/wp-content/uploads/sites/33/2021/08/Website-event-InsurTech-30-Aug-2046-x-600.jpg
END:VEVENT
END:VCALENDAR